BEGIN:VCALENDAR
VERSION:2.0
PRODID:-//eventon.com NONSGML v1.0//EN
CALSCALE:GREGORIAN
METHOD:PUBLISH
BEGIN:VEVENT
UID:69e8d403f3fa2
DTSTAMP:20260422T135827Z
DTSTART:20260518T180000Z
DTEND:20260518T200000Z
LOCATION:
SUMMARY:Fabric Printing Workshop
DESCRIPTION:\nhttps://scrapbox.org.uk/events/fabric-printing-workshop/
URL:https://scrapbox.org.uk/events/fabric-printing-workshop/
END:VEVENT
END:VCALENDAR