BEGIN:VCALENDAR
VERSION:2.0
PRODID:-//eventon.com NONSGML v1.0//EN
CALSCALE:GREGORIAN
METHOD:PUBLISH
BEGIN:VEVENT
UID:69e8d5026a772
DTSTAMP:20260422T140242Z
DTSTART:20260603T180000Z
DTEND:20260603T200000Z
LOCATION:
SUMMARY:Overlocker Workshop
DESCRIPTION:\nhttps://scrapbox.org.uk/events/overlocker-workshop-4/
URL:https://scrapbox.org.uk/events/overlocker-workshop-4/
END:VEVENT
END:VCALENDAR