BEGIN:VCALENDAR
VERSION:2.0
PRODID:-//eventon.com NONSGML v1.0//EN
CALSCALE:GREGORIAN
METHOD:PUBLISH
BEGIN:VEVENT
UID:69e8d403f3fa4
DTSTAMP:20260422T135827Z
DTSTART:20260507T100000Z
DTEND:20260507T120000Z
LOCATION:
SUMMARY:Paint Pouring and Fluid Art
DESCRIPTION:Join Hannah Ferry for a series of painting workshops aimed at p
 romoting messy play within your creative process\,  freeing up your style t
 hrough exploration of different techniques. The theme of the workshops will
  be based around our connection with nature and the seasons Session 4: Pain
 t Pouring and Fluid Art[..]\nhttps://scrapbox.org.uk/events/paint-pouring-a
 nd-fluid-art/
URL:https://scrapbox.org.uk/events/paint-pouring-and-fluid-art/
END:VEVENT
END:VCALENDAR