BEGIN:VCALENDAR
VERSION:2.0
PRODID:-//eventon.com NONSGML v1.0//EN
CALSCALE:GREGORIAN
METHOD:PUBLISH
BEGIN:VEVENT
UID:69e8d4d8e1465
DTSTAMP:20260422T140200Z
DTSTART:20260514T100000Z
DTEND:20260514T120000Z
LOCATION:
SUMMARY:Mandala Workshop
DESCRIPTION:\nhttps://scrapbox.org.uk/events/mandala-workshop/
URL:https://scrapbox.org.uk/events/mandala-workshop/
END:VEVENT
END:VCALENDAR