BEGIN:VCALENDAR
VERSION:2.0
PRODID:-//eventon.com NONSGML v1.0//EN
CALSCALE:GREGORIAN
METHOD:PUBLISH
BEGIN:VEVENT
UID:69e8d4d341a41
DTSTAMP:20260422T140155Z
DTSTART:20260506T180000Z
DTEND:20260506T200000Z
LOCATION:
SUMMARY:Overlocker Workshop
DESCRIPTION:\nhttps://scrapbox.org.uk/events/overlocker-workshop-3/
URL:https://scrapbox.org.uk/events/overlocker-workshop-3/
END:VEVENT
END:VCALENDAR